BEGIN:VCALENDAR
VERSION:2.0
PRODID:-//Mechanics' Institute//NONSGML v1.0//EN
METHOD:PUBLISH
BEGIN:VEVENT
DTSTART;TZID=America/Los_Angeles:20260428T180000
DTEND;TZID=America/Los_Angeles:20260428T210000
DTSTAMP:20260421T022643
CREATED:20260421T022643-25200
SUMMARY:2nd Spy's Mate Rapid with Thinkers Publishing
DESCRIPTION:Our Rapid tournaments are a thrilling way to test your skills at the historic Mechanics’ Institute Chess Club in San Francisco. Typically held on Thursday evenings\, these 4-round events are both USCF- and FIDE-rated\, attracting players of all levels for an exciting night of quick chess.
URL:mechanicsinstitute.digitalbranch.org/api/event_export_ics_controlle
LOCATION:
UID:31993
END:VEVENT
END:VCALENDAR
