BEGIN:VCALENDAR
VERSION:2.0
PRODID:-//Mechanics' Institute//NONSGML v1.0//EN
METHOD:PUBLISH
BEGIN:VEVENT
DTSTART;TZID=America/Los_Angeles:20260612T180000
DTEND;TZID=America/Los_Angeles:20260612T200000
DTSTAMP:20260421T015534
CREATED:20260421T015534-25200
SUMMARY:Movies at Mechanics' Presents: Members Choice
DESCRIPTION:June is Members' Choice Month! Join us for fresh popcorn and lively discourse on the films you voted on!
URL:mechanicsinstitute.digitalbranch.org/api/event_export_ics_controlle
LOCATION:
UID:31537
END:VEVENT
END:VCALENDAR
