BEGIN:VCALENDAR
VERSION:2.0
PRODID:-//Mechanics' Institute//NONSGML v1.0//EN
METHOD:PUBLISH
BEGIN:VEVENT
DTSTART;TZID=America/Los_Angeles:20260427T190000
DTEND;TZID=America/Los_Angeles:20260427T203000
DTSTAMP:20260419T063002
CREATED:20260419T063002-25200
SUMMARY:A Fabulous Animal: A Staged Reading by Word for Word
DESCRIPTION:WORD FOR WORD Performing Arts Company performs short works of fiction in their entirety\, preserving the author’s voice and honoring their intent with exciting visuals and inventive staging.
URL:mechanicsinstitute.digitalbranch.org/api/event_export_ics_controlle
LOCATION:
UID:31507
END:VEVENT
END:VCALENDAR
