BEGIN:VCALENDAR
VERSION:2.0
PRODID:-//Mechanics' Institute//NONSGML v1.0//EN
METHOD:PUBLISH
BEGIN:VEVENT
DTSTART;TZID=America/Los_Angeles:20260508T150000
DTEND;TZID=America/Los_Angeles:20260508T160000
DTSTAMP:20260423T192816
CREATED:20260423T192816-25200
SUMMARY:Kanopy: Streaming Movies and More Using Your Library Card!
DESCRIPTION:Maximize the benefits of your MI Library membership by accessing a large library of movies and TV\, right from the comfort of your home.
URL:mechanicsinstitute.digitalbranch.org/api/event_export_ics_controlle
LOCATION:
UID:31035
END:VEVENT
END:VCALENDAR
