BEGIN:VCALENDAR
VERSION:2.0
PRODID:-//Mechanics' Institute//NONSGML v1.0//EN
METHOD:PUBLISH
BEGIN:VEVENT
DTSTART;TZID=America/Los_Angeles:20260422T160000
DTEND;TZID=America/Los_Angeles:20260422T180000
DTSTAMP:20260419T062940
CREATED:20260419T062940-25200
SUMMARY:Tech Support Hour
DESCRIPTION:
URL:mechanicsinstitute.digitalbranch.org/api/event_export_ics_controlle
LOCATION:
UID:30994
END:VEVENT
END:VCALENDAR
