BEGIN:VCALENDAR
VERSION:2.0
PRODID:-//Mechanics' Institute//NONSGML v1.0//EN
METHOD:PUBLISH
BEGIN:VEVENT
DTSTART;TZID=America/Los_Angeles:20260509T130000
DTEND;TZID=America/Los_Angeles:20260509T150000
DTSTAMP:20260423T193636
CREATED:20260423T193636-25200
SUMMARY:Tech Support Hour
DESCRIPTION:Free drop-in tech support provided in partnership with digitalLIFT.
URL:mechanicsinstitute.digitalbranch.org/api/event_export_ics_controlle
LOCATION:
UID:30639
END:VEVENT
END:VCALENDAR
