BEGIN:VCALENDAR
VERSION:2.0
PRODID:-//Mechanics' Institute//NONSGML v1.0//EN
METHOD:PUBLISH
BEGIN:VEVENT
DTSTART;TZID=America/Los_Angeles:20260501T180000
DTEND;TZID=America/Los_Angeles:20260501T203000
DTSTAMP:20260421T022106
CREATED:20260421T022106-25200
SUMMARY:Movies at Mechanics' Presents: Sabrina (1954)
DESCRIPTION:Join us for another film screening followed by a discussion - hosted by Lara Gabrielle with guest co-host\, Matt Kennedy!
URL:mechanicsinstitute.digitalbranch.org/api/event_export_ics_controlle
LOCATION:
UID:30539
END:VEVENT
END:VCALENDAR
