BEGIN:VCALENDAR
VERSION:2.0
PRODID:-//Mechanics' Institute//NONSGML v1.0//EN
METHOD:PUBLISH
BEGIN:VEVENT
DTSTART;TZID=America/Los_Angeles:20260424T180000
DTEND;TZID=America/Los_Angeles:20260424T203000
DTSTAMP:20260421T015452
CREATED:20260421T015452-25200
SUMMARY:Movies at Mechanics' Presents: A Double Life (1947)
DESCRIPTION:Join us for a truly great cinematic experience\, in our conclusion to a month of literary adaptations at Movies at Mechanics’. As always\, come early for popcorn and a classic pre-show\, filled with vintage clips\, newsreels\, and interviews!
URL:mechanicsinstitute.digitalbranch.org/api/event_export_ics_controlle
LOCATION:
UID:30538
END:VEVENT
END:VCALENDAR
