BEGIN:VCALENDAR
VERSION:2.0
PRODID:-//Mechanics' Institute//NONSGML v1.0//EN
METHOD:PUBLISH
BEGIN:VEVENT
DTSTART;TZID=America/Los_Angeles:20260119T100000
DTEND;TZID=America/Los_Angeles:20260119T150000
DTSTAMP:20260423T015018
CREATED:20260423T015018-25200
SUMMARY:2026 MLK Weekend Scholastic Championship
DESCRIPTION:Our special Scholastic Championship are designed for K-12 players. These events provide a supportive and fun environment where students of all skill levels can compete\, and grow their love of chess. Notation and use of clock is not required.
URL:mechanicsinstitute.digitalbranch.org/api/event_export_ics_controlle
LOCATION:
UID:28635
END:VEVENT
END:VCALENDAR
