BEGIN:VCALENDAR
VERSION:2.0
PRODID:-//Mechanics' Institute//NONSGML v1.0//EN
METHOD:PUBLISH
BEGIN:VEVENT
DTSTART;TZID=America/Los_Angeles:20260507T110000
DTEND;TZID=America/Los_Angeles:20260507T130000
DTSTAMP:20260423T121536
CREATED:20260423T121536-25200
SUMMARY:Write If You Dare! (ONLINE)
DESCRIPTION:Write If You Dare! is a weekly drop-in online writers’ group offering dedicated time and community support for members generating new work.
URL:mechanicsinstitute.digitalbranch.org/api/event_export_ics_controlle
LOCATION:
UID:27510
END:VEVENT
END:VCALENDAR
