BEGIN:VCALENDAR
VERSION:2.0
PRODID:-//Mechanics' Institute//NONSGML v1.0//EN
METHOD:PUBLISH
BEGIN:VEVENT
DTSTART;TZID=America/Los_Angeles:20260427T140000
DTEND;TZID=America/Los_Angeles:20260427T160000
DTSTAMP:20260419T062917
CREATED:20260419T062917-25200
SUMMARY:Poetry Writers
DESCRIPTION:A welcoming space for poets of all levels to share their work\, exchange in feedback\, and find inspiration.
URL:mechanicsinstitute.digitalbranch.org/api/event_export_ics_controlle
LOCATION:
UID:27463
END:VEVENT
END:VCALENDAR
