BEGIN:VCALENDAR
VERSION:2.0
PRODID:-//Mechanics' Institute//NONSGML v1.0//EN
METHOD:PUBLISH
BEGIN:VEVENT
DTSTART;TZID=America/Los_Angeles:20251023T193000
DTEND;TZID=America/Los_Angeles:20251023T210000
DTSTAMP:20260422T003355
CREATED:20260422T003355-25200
SUMMARY:ZYZZYVA Turns 40! A Literary Celebration
DESCRIPTION:Join Mechanics' Institute and ZYZZYVA in saying Happy Birthday! to one of the Bay Area's beloved literary journals.
URL:mechanicsinstitute.digitalbranch.org/api/event_export_ics_controlle
LOCATION:
UID:24900
END:VEVENT
END:VCALENDAR
