BEGIN:VCALENDAR
VERSION:2.0
PRODID:-//Mechanics' Institute//NONSGML v1.0//EN
METHOD:PUBLISH
BEGIN:VEVENT
DTSTART;TZID=America/Los_Angeles:20251027T180000
DTEND;TZID=America/Los_Angeles:20251027T193000
DTSTAMP:20260423T114427
CREATED:20260423T114427-25200
SUMMARY:Gertrude Stein: An Afterlife with author Francesca Wade
DESCRIPTION:Join us for an insightful evening with author Francesca Wade as she discusses her groundbreaking new biography\, Gertrude Stein\: An Afterlife.
URL:mechanicsinstitute.digitalbranch.org/api/event_export_ics_controlle
LOCATION:
UID:24300
END:VEVENT
END:VCALENDAR
