BEGIN:VCALENDAR
VERSION:2.0
PRODID:-//Mechanics' Institute//NONSGML v1.0//EN
METHOD:PUBLISH
BEGIN:VEVENT
DTSTART;TZID=America/Los_Angeles:20251009T190000
DTEND;TZID=America/Los_Angeles:20251009T203000
DTSTAMP:20260423T032623
CREATED:20260423T032623-25200
SUMMARY:Music at Mechanics' Presents the New Century Chamber Orchestra Quartet
DESCRIPTION:Music at Mechanics presents the New Century Chamber Orchestra Quartet\, performing in our historic library space.
URL:mechanicsinstitute.digitalbranch.org/api/event_export_ics_controlle
LOCATION:
UID:22308
END:VEVENT
END:VCALENDAR
